BEGIN:VCALENDAR
VERSION:2.0
PRODID:-//The Beatrice Hunter Cancer Research Institute - ECPv6.15.20//NONSGML v1.0//EN
CALSCALE:GREGORIAN
METHOD:PUBLISH
X-ORIGINAL-URL:https://bhcri.ca
X-WR-CALDESC:Events for The Beatrice Hunter Cancer Research Institute
REFRESH-INTERVAL;VALUE=DURATION:PT1H
X-Robots-Tag:noindex
X-PUBLISHED-TTL:PT1H
BEGIN:VTIMEZONE
TZID:America/Halifax
BEGIN:DAYLIGHT
TZOFFSETFROM:-0400
TZOFFSETTO:-0300
TZNAME:ADT
DTSTART:20240310T060000
END:DAYLIGHT
BEGIN:STANDARD
TZOFFSETFROM:-0300
TZOFFSETTO:-0400
TZNAME:AST
DTSTART:20241103T050000
END:STANDARD
BEGIN:DAYLIGHT
TZOFFSETFROM:-0400
TZOFFSETTO:-0300
TZNAME:ADT
DTSTART:20250309T060000
END:DAYLIGHT
BEGIN:STANDARD
TZOFFSETFROM:-0300
TZOFFSETTO:-0400
TZNAME:AST
DTSTART:20251102T050000
END:STANDARD
BEGIN:DAYLIGHT
TZOFFSETFROM:-0400
TZOFFSETTO:-0300
TZNAME:ADT
DTSTART:20260308T060000
END:DAYLIGHT
BEGIN:STANDARD
TZOFFSETFROM:-0300
TZOFFSETTO:-0400
TZNAME:AST
DTSTART:20261101T050000
END:STANDARD
END:VTIMEZONE
BEGIN:VEVENT
DTSTART;VALUE=DATE:20251015
DTEND;VALUE=DATE:20251102
DTSTAMP:20260422T230316
CREATED:20251002T164452Z
LAST-MODIFIED:20251002T165513Z
UID:3922-1760486400-1762041599@bhcri.ca
SUMMARY:2025 National Pancreas Conference (NPC) Financial Grants
DESCRIPTION:Craig’s Cause Pancreatic Cancer Society \nSupports multidisciplinary pancreatic cancer research and knowledge-sharing at Canada’s only disease-specific conference dedicated to pancreatic cancer. \nThree distinct funding opportunities available: \n1-Research Awards – $7\,500 each \n\n📅 Abstract Submission Deadline: October 31\, 2025 @ 11:59 PM EST\n🔗 Submit your abstract to: jessica@craigscause.ca\n\n  \n2-Poster Presentation Awards – $750 each \n\n📅 Abstract Submission Deadline: October 15\, 2025 @ 11:59 PM EST\n🔗 Submit your abstract to: jessica@craigscause.ca\n\n  \n3–Faculty Research Grant – $50\,000 \n\n📅 Proposal Submission Deadline: November 1\, 2025\n🔗 Submit your proposal to: jessica@craigscause.ca
URL:https://bhcri.ca/event/2025-national-pancreas-conference-npc-financial-grants/
END:VEVENT
BEGIN:VEVENT
DTSTART;VALUE=DATE:20251103
DTEND;VALUE=DATE:20251104
DTSTAMP:20260422T230316
CREATED:20251006T194123Z
LAST-MODIFIED:20251006T194123Z
UID:3941-1762128000-1762214399@bhcri.ca
SUMMARY:Nova Scotia Oncology Research Day
DESCRIPTION:
URL:https://bhcri.ca/event/nova-scotia-oncology-research-day/
END:VEVENT
BEGIN:VEVENT
DTSTART;TZID=America/Halifax:20251104T130000
DTEND;TZID=America/Halifax:20251105T170000
DTSTAMP:20260422T230316
CREATED:20250807T182210Z
LAST-MODIFIED:20250904T153728Z
UID:3459-1762261200-1762362000@bhcri.ca
SUMMARY:A Clinical Genomics for Precision Oncology Workshop - Registrations Open Now!
DESCRIPTION:BHCRI is proud to partner with Bioinformatics.ca to launch the Clinical Genomics for Precision Oncology Workshop\, taking place November 4–5\, 2025 in Halifax\, NS. \nThis 1.5-day\, hands-on workshop directly supports BHCRI’s strategic pillars of research excellence\, training and support\, and networking and collaboration. By equipping cancer researchers and clinicians with practical bioinformatics skills\, we’re advancing the integration of genomics into clinical oncology and strengthening the capacity of Atlantic Canada’s cancer research community. \n \n🔬 Learn to: \n\nNavigate clinical bioinformatics workflows\nUse the GATK toolkit effectively\nManipulate and interpret genomic data\nDistinguish somatic vs. germline variants\nApply genomic insights to clinical outcomes\n\nKey Dates \nNov 4 (Afternoon): Workshop from 1:00 PM – 5:30 PM \nNov 5 (Full day): Workshop continues 9:00 AM–5:30 PM \nFees: Early Bird: CAD $50 for applications received between August 28\, 2025 to October 13\, 2025  | CAD $100 for applications received between October 14\, 2025 to October 27\, 2025 \nLimited to: 30 participants | No Coding experience Necessary! Open to BHCRI CRTP clinical researchers\, researcher scientists\, post–doctoral fellows\, and graduate students with cancer genomics research projects. \nREGISTER HERE! \nGPO_Hal-2511_Flyer
URL:https://bhcri.ca/event/clinical-genomics-for-precision-oncology-workshop/
ORGANIZER;CN="BHCRI":MAILTO:admin@bhcri.ca
END:VEVENT
END:VCALENDAR