BEGIN:VCALENDAR
VERSION:2.0
PRODID:-//The Beatrice Hunter Cancer Research Institute - ECPv6.15.20//NONSGML v1.0//EN
CALSCALE:GREGORIAN
METHOD:PUBLISH
X-ORIGINAL-URL:https://bhcri.ca
X-WR-CALDESC:Events for The Beatrice Hunter Cancer Research Institute
REFRESH-INTERVAL;VALUE=DURATION:PT1H
X-Robots-Tag:noindex
X-PUBLISHED-TTL:PT1H
BEGIN:VTIMEZONE
TZID:America/Halifax
BEGIN:DAYLIGHT
TZOFFSETFROM:-0400
TZOFFSETTO:-0300
TZNAME:ADT
DTSTART:20240310T060000
END:DAYLIGHT
BEGIN:STANDARD
TZOFFSETFROM:-0300
TZOFFSETTO:-0400
TZNAME:AST
DTSTART:20241103T050000
END:STANDARD
BEGIN:DAYLIGHT
TZOFFSETFROM:-0400
TZOFFSETTO:-0300
TZNAME:ADT
DTSTART:20250309T060000
END:DAYLIGHT
BEGIN:STANDARD
TZOFFSETFROM:-0300
TZOFFSETTO:-0400
TZNAME:AST
DTSTART:20251102T050000
END:STANDARD
BEGIN:DAYLIGHT
TZOFFSETFROM:-0400
TZOFFSETTO:-0300
TZNAME:ADT
DTSTART:20260308T060000
END:DAYLIGHT
BEGIN:STANDARD
TZOFFSETFROM:-0300
TZOFFSETTO:-0400
TZNAME:AST
DTSTART:20261101T050000
END:STANDARD
END:VTIMEZONE
BEGIN:VEVENT
DTSTART;VALUE=DATE:20250801
DTEND;VALUE=DATE:20250802
DTSTAMP:20260423T035826
CREATED:20250516T190808Z
LAST-MODIFIED:20250710T123620Z
UID:2835-1754006400-1754092799@bhcri.ca
SUMMARY:The Annual Jen Johnston Prize for Research Excellence Deadline August 01\, 2025
DESCRIPTION:Applications Are Now Open for the 2025 Jen Johnston Prize for Research Excellence\nDeadline: August 01\, 2025 \n\n\nThe Jen Johnston Prize for Research Excellence recognizes excellence in CRTP trainee research with the aim of encouraging CRTP trainees to establish careers in cancer research. The 2025 Prize will be awarded for Discovery/Fundamental research and the recipient will be invited to present their published research at a BHCRI-organized event and be featured on BHCRI’s website and social media.
URL:https://bhcri.ca/event/the-annual-jen-johnston-prize-for-research-excellence-open-for-applications/
END:VEVENT
END:VCALENDAR