BEGIN:VCALENDAR
VERSION:2.0
PRODID:-//The Beatrice Hunter Cancer Research Institute - ECPv6.15.20//NONSGML v1.0//EN
CALSCALE:GREGORIAN
METHOD:PUBLISH
X-ORIGINAL-URL:https://bhcri.ca
X-WR-CALDESC:Events for The Beatrice Hunter Cancer Research Institute
REFRESH-INTERVAL;VALUE=DURATION:PT1H
X-Robots-Tag:noindex
X-PUBLISHED-TTL:PT1H
BEGIN:VTIMEZONE
TZID:America/Halifax
BEGIN:DAYLIGHT
TZOFFSETFROM:-0400
TZOFFSETTO:-0300
TZNAME:ADT
DTSTART:20240310T060000
END:DAYLIGHT
BEGIN:STANDARD
TZOFFSETFROM:-0300
TZOFFSETTO:-0400
TZNAME:AST
DTSTART:20241103T050000
END:STANDARD
BEGIN:DAYLIGHT
TZOFFSETFROM:-0400
TZOFFSETTO:-0300
TZNAME:ADT
DTSTART:20250309T060000
END:DAYLIGHT
BEGIN:STANDARD
TZOFFSETFROM:-0300
TZOFFSETTO:-0400
TZNAME:AST
DTSTART:20251102T050000
END:STANDARD
BEGIN:DAYLIGHT
TZOFFSETFROM:-0400
TZOFFSETTO:-0300
TZNAME:ADT
DTSTART:20260308T060000
END:DAYLIGHT
BEGIN:STANDARD
TZOFFSETFROM:-0300
TZOFFSETTO:-0400
TZNAME:AST
DTSTART:20261101T050000
END:STANDARD
END:VTIMEZONE
BEGIN:VEVENT
DTSTART;TZID=America/Halifax:20250509T100000
DTEND;TZID=America/Halifax:20250509T120000
DTSTAMP:20260423T081605
CREATED:20250402T130519Z
LAST-MODIFIED:20250422T122721Z
UID:2519-1746784800-1746792000@bhcri.ca
SUMMARY:May 09\, 2025 BHCRI CRTP Integrated Learning Session
DESCRIPTION:CRTP ILS Sessions are mandatory program curriculum components. ILS sessions involve active discussion and articulation of ideas\, which are broadened by the input of a variety of perspectives.  ILS sessions are typically two hours in length. \nMay 2025 Topic: Ovarian Cancer \nPresenters:  \n\nDr. Kathy Cho\, University of Michigan Medical School – Title of Presentation: “Ovarian Cancer Pathogenesis and Prevention: Insights from Mouse Models”\nDr. Laura Hopkins\, University of Saskatchewan Department of Oncology – Title of Presentation: “Precision Oncology Meets Personalized Decision-Making“\nTeresa Arthur\, Patient Partner\n\nLocation –In Person: 5850 College Street\, Halifax – Tupper Medical Building\, Theatre D \nVirtually: Please see below MICROSOFT TEAMS link \n________________________________________________________________________________ \nMicrosoft Teams Need help? \nJoin the meeting now \nMeeting ID: 264 079 115 371 \nPasscode: c8uo3VQ2
URL:https://bhcri.ca/event/crtp-integrated-learning-session/
END:VEVENT
BEGIN:VEVENT
DTSTART;TZID=America/Halifax:20250515T100000
DTEND;TZID=America/Halifax:20250515T113000
DTSTAMP:20260423T081605
CREATED:20250408T141657Z
LAST-MODIFIED:20250408T141736Z
UID:2578-1747303200-1747308600@bhcri.ca
SUMMARY:May 15\, 2025 BHCRI CRTP Work in Progress Session
DESCRIPTION:
URL:https://bhcri.ca/event/may-15-2025-bhcri-crtp-work-in-progress/
END:VEVENT
END:VCALENDAR